BEGIN:VCALENDAR
VERSION:2.0
PRODID:-//Kleingarten Morgensonne Münster - ECPv6.0.13.1//NONSGML v1.0//EN
CALSCALE:GREGORIAN
METHOD:PUBLISH
X-ORIGINAL-URL:https://kleingarten-morgensonne-muenster.de
X-WR-CALDESC:Veranstaltungen für Kleingarten Morgensonne Münster
REFRESH-INTERVAL;VALUE=DURATION:PT1H
X-Robots-Tag:noindex
X-PUBLISHED-TTL:PT1H
BEGIN:VTIMEZONE
TZID:Europe/Berlin
BEGIN:DAYLIGHT
TZOFFSETFROM:+0100
TZOFFSETTO:+0200
TZNAME:CEST
DTSTART:20240331T010000
END:DAYLIGHT
BEGIN:STANDARD
TZOFFSETFROM:+0200
TZOFFSETTO:+0100
TZNAME:CET
DTSTART:20241027T010000
END:STANDARD
END:VTIMEZONE
BEGIN:VEVENT
DTSTART;VALUE=DATE:20241212
DTEND;VALUE=DATE:20241213
DTSTAMP:20260422T132947
CREATED:20241125T082415Z
LAST-MODIFIED:20241125T082442Z
UID:1111-1733961600-1734047999@kleingarten-morgensonne-muenster.de
SUMMARY:Vermietung Andrea Zinke
DESCRIPTION:Weihnachtsfeier \n\nUbergabe\n\nAbnahme
URL:https://kleingarten-morgensonne-muenster.de/event/vermietung-andre-zinke/
END:VEVENT
BEGIN:VEVENT
DTSTART;VALUE=DATE:20241231
DTEND;VALUE=DATE:20250101
DTSTAMP:20260422T132947
CREATED:20241113T154224Z
LAST-MODIFIED:20241113T154224Z
UID:1098-1735603200-1735689599@kleingarten-morgensonne-muenster.de
SUMMARY:Vermietung Niels - Silvester
DESCRIPTION:
URL:https://kleingarten-morgensonne-muenster.de/event/vermietung-niels-silvester/
END:VEVENT
END:VCALENDAR