BEGIN:VCALENDAR
VERSION:2.0
PRODID:-//Kleingarten Morgensonne Münster - ECPv6.0.13.1//NONSGML v1.0//EN
CALSCALE:GREGORIAN
METHOD:PUBLISH
X-WR-CALNAME:Kleingarten Morgensonne Münster
X-ORIGINAL-URL:https://kleingarten-morgensonne-muenster.de
X-WR-CALDESC:Veranstaltungen für Kleingarten Morgensonne Münster
REFRESH-INTERVAL;VALUE=DURATION:PT1H
X-Robots-Tag:noindex
X-PUBLISHED-TTL:PT1H
BEGIN:VTIMEZONE
TZID:Europe/Berlin
BEGIN:DAYLIGHT
TZOFFSETFROM:+0100
TZOFFSETTO:+0200
TZNAME:CEST
DTSTART:20240331T010000
END:DAYLIGHT
BEGIN:STANDARD
TZOFFSETFROM:+0200
TZOFFSETTO:+0100
TZNAME:CET
DTSTART:20241027T010000
END:STANDARD
END:VTIMEZONE
BEGIN:VEVENT
DTSTART;TZID=Europe/Berlin:20240910T080000
DTEND;TZID=Europe/Berlin:20240910T223000
DTSTAMP:20260422T185450
CREATED:20240807T175237Z
LAST-MODIFIED:20240807T175628Z
UID:1053-1725955200-1726007400@kleingarten-morgensonne-muenster.de
SUMMARY:Niko Katzer Versammlung ab 17 Uhr
DESCRIPTION:Öffnung Vereinshaus – keine Vermietung
URL:https://kleingarten-morgensonne-muenster.de/event/niko-katzer-versammlung-ab-17-uhr/
END:VEVENT
BEGIN:VEVENT
DTSTART;VALUE=DATE:20240921
DTEND;VALUE=DATE:20240922
DTSTAMP:20260422T185450
CREATED:20240112T174249Z
LAST-MODIFIED:20240904T113642Z
UID:990-1726876800-1726963199@kleingarten-morgensonne-muenster.de
SUMMARY:Vermietung Melanie Kopp (Garten 55)
DESCRIPTION:Übergabe vorher / Abnahme nachher Tine
URL:https://kleingarten-morgensonne-muenster.de/event/vermietung-melanie-kopp-garten-55/
END:VEVENT
BEGIN:VEVENT
DTSTART;VALUE=DATE:20240928
DTEND;VALUE=DATE:20240929
DTSTAMP:20260422T185450
CREATED:20240630T085515Z
LAST-MODIFIED:20240904T113504Z
UID:1049-1727481600-1727567999@kleingarten-morgensonne-muenster.de
SUMMARY:Vermietung Rene Geb. Kollege
DESCRIPTION:Übergabe vorher / Abnahme nachher Esther
URL:https://kleingarten-morgensonne-muenster.de/event/vermietung-rene-geb-kollege/
END:VEVENT
END:VCALENDAR