BEGIN:VCALENDAR
VERSION:2.0
PRODID:-//Kleingarten Morgensonne Münster - ECPv6.0.13.1//NONSGML v1.0//EN
CALSCALE:GREGORIAN
METHOD:PUBLISH
X-WR-CALNAME:Kleingarten Morgensonne Münster
X-ORIGINAL-URL:https://kleingarten-morgensonne-muenster.de
X-WR-CALDESC:Veranstaltungen für Kleingarten Morgensonne Münster
REFRESH-INTERVAL;VALUE=DURATION:PT1H
X-Robots-Tag:noindex
X-PUBLISHED-TTL:PT1H
BEGIN:VTIMEZONE
TZID:Europe/Berlin
BEGIN:DAYLIGHT
TZOFFSETFROM:+0100
TZOFFSETTO:+0200
TZNAME:CEST
DTSTART:20240331T010000
END:DAYLIGHT
BEGIN:STANDARD
TZOFFSETFROM:+0200
TZOFFSETTO:+0100
TZNAME:CET
DTSTART:20241027T010000
END:STANDARD
END:VTIMEZONE
BEGIN:VEVENT
DTSTART;VALUE=DATE:20240420
DTEND;VALUE=DATE:20240421
DTSTAMP:20260423T042627
CREATED:20240410T095741Z
LAST-MODIFIED:20240410T095741Z
UID:1015-1713571200-1713657599@kleingarten-morgensonne-muenster.de
SUMMARY:Vermietung Steypen
DESCRIPTION:
URL:https://kleingarten-morgensonne-muenster.de/event/vermietung-steypen-3/
END:VEVENT
BEGIN:VEVENT
DTSTART;TZID=Europe/Berlin:20240430T170000
DTEND;TZID=Europe/Berlin:20240430T220000
DTSTAMP:20260423T042627
CREATED:20240410T095855Z
LAST-MODIFIED:20240410T100221Z
UID:1019-1714496400-1714514400@kleingarten-morgensonne-muenster.de
SUMMARY:Maitour
DESCRIPTION:Einladung zur Maifahrradtour\n(für die Mitfahrer)\nStart: am Vereinshaus\nStartzeit: 17.00 Uhr\nFahrzeit: etwa 2 – 2\,5 Std.\n(Bei Regen wird nicht gefahren)\nFür die Nichtmitfahrer ist ein Treffen im Vereinshaus angesagt:\nVereinshaus Öffnung: 18.30.Uhr\nab 19.00 Uhr wird gegrillt.\nDanach gemütliches Beisammensein und Klönen bei Bier\, Wein usw.\nVon allen Teilnehmer wird\, zwecks Einkauf des Grillguts\, eine Anmeldung\nerwartet.\n(Jeden Mittwoch 11.04\, 18.04 und 25.04 ist es im Vereinshaus möglich oder beim Vorstand)
URL:https://kleingarten-morgensonne-muenster.de/event/maitour/
END:VEVENT
END:VCALENDAR