BEGIN:VCALENDAR
VERSION:2.0
PRODID:-//Kleingarten Morgensonne Münster - ECPv6.0.13.1//NONSGML v1.0//EN
CALSCALE:GREGORIAN
METHOD:PUBLISH
X-WR-CALNAME:Kleingarten Morgensonne Münster
X-ORIGINAL-URL:https://kleingarten-morgensonne-muenster.de
X-WR-CALDESC:Veranstaltungen für Kleingarten Morgensonne Münster
REFRESH-INTERVAL;VALUE=DURATION:PT1H
X-Robots-Tag:noindex
X-PUBLISHED-TTL:PT1H
BEGIN:VTIMEZONE
TZID:Europe/Berlin
BEGIN:DAYLIGHT
TZOFFSETFROM:+0100
TZOFFSETTO:+0200
TZNAME:CEST
DTSTART:20230326T010000
END:DAYLIGHT
BEGIN:STANDARD
TZOFFSETFROM:+0200
TZOFFSETTO:+0100
TZNAME:CET
DTSTART:20231029T010000
END:STANDARD
END:VTIMEZONE
BEGIN:VEVENT
DTSTART;VALUE=DATE:20230702
DTEND;VALUE=DATE:20230703
DTSTAMP:20260423T203445
CREATED:20230415T080157Z
LAST-MODIFIED:20230530T121007Z
UID:888-1688256000-1688342399@kleingarten-morgensonne-muenster.de
SUMMARY:Vermietung
DESCRIPTION: 
URL:https://kleingarten-morgensonne-muenster.de/event/vermietung-3/
END:VEVENT
BEGIN:VEVENT
DTSTART;TZID=Europe/Berlin:20230722T160000
DTEND;TZID=Europe/Berlin:20230722T230000
DTSTAMP:20260423T203445
CREATED:20230720T095606Z
LAST-MODIFIED:20230720T095606Z
UID:943-1690041600-1690066800@kleingarten-morgensonne-muenster.de
SUMMARY:SparClub Grillen
DESCRIPTION:
URL:https://kleingarten-morgensonne-muenster.de/event/sparclub-grillen/
END:VEVENT
BEGIN:VEVENT
DTSTART;TZID=Europe/Berlin:20230730T150000
DTEND;TZID=Europe/Berlin:20230730T180000
DTSTAMP:20260423T203445
CREATED:20230607T120012Z
LAST-MODIFIED:20230607T120012Z
UID:927-1690729200-1690740000@kleingarten-morgensonne-muenster.de
SUMMARY:Spielenachmittag – offene Veranstaltung
DESCRIPTION:
URL:https://kleingarten-morgensonne-muenster.de/event/spielenachmittag-offene-veranstaltung-6/
END:VEVENT
END:VCALENDAR