BEGIN:VCALENDAR
VERSION:2.0
PRODID:-//Kleingarten Morgensonne Münster - ECPv6.0.13.1//NONSGML v1.0//EN
CALSCALE:GREGORIAN
METHOD:PUBLISH
X-WR-CALNAME:Kleingarten Morgensonne Münster
X-ORIGINAL-URL:https://kleingarten-morgensonne-muenster.de
X-WR-CALDESC:Veranstaltungen für Kleingarten Morgensonne Münster
REFRESH-INTERVAL;VALUE=DURATION:PT1H
X-Robots-Tag:noindex
X-PUBLISHED-TTL:PT1H
BEGIN:VTIMEZONE
TZID:Europe/Berlin
BEGIN:DAYLIGHT
TZOFFSETFROM:+0100
TZOFFSETTO:+0200
TZNAME:CEST
DTSTART:20230326T010000
END:DAYLIGHT
BEGIN:STANDARD
TZOFFSETFROM:+0200
TZOFFSETTO:+0100
TZNAME:CET
DTSTART:20231029T010000
END:STANDARD
END:VTIMEZONE
BEGIN:VEVENT
DTSTART;VALUE=DATE:20230603
DTEND;VALUE=DATE:20230604
DTSTAMP:20260423T223052
CREATED:20230116T153632Z
LAST-MODIFIED:20230530T121021Z
UID:764-1685750400-1685836799@kleingarten-morgensonne-muenster.de
SUMMARY:Vermietung
DESCRIPTION:Andrea Zi
URL:https://kleingarten-morgensonne-muenster.de/event/anfrage-vermietung-2/
END:VEVENT
BEGIN:VEVENT
DTSTART;VALUE=DATE:20230610
DTEND;VALUE=DATE:20230611
DTSTAMP:20260423T223052
CREATED:20230327T153831Z
LAST-MODIFIED:20230415T080354Z
UID:860-1686355200-1686441599@kleingarten-morgensonne-muenster.de
SUMMARY:Vermietung
DESCRIPTION:Felix – Klassengrillen
URL:https://kleingarten-morgensonne-muenster.de/event/anfrage-vermietung-5/
END:VEVENT
BEGIN:VEVENT
DTSTART;VALUE=DATE:20230624
DTEND;VALUE=DATE:20230625
DTSTAMP:20260423T223052
CREATED:20230607T115020Z
LAST-MODIFIED:20230607T115020Z
UID:918-1687564800-1687651199@kleingarten-morgensonne-muenster.de
SUMMARY:Vermietung - Poker Turnier
DESCRIPTION:Steypen
URL:https://kleingarten-morgensonne-muenster.de/event/vermietung-poker-turnier/
END:VEVENT
BEGIN:VEVENT
DTSTART;TZID=Europe/Berlin:20230625T140000
DTEND;TZID=Europe/Berlin:20230625T180000
DTSTAMP:20260423T223052
CREATED:20230607T115951Z
LAST-MODIFIED:20230607T115951Z
UID:924-1687701600-1687716000@kleingarten-morgensonne-muenster.de
SUMMARY:Spielenachmittag – offene Veranstaltung
DESCRIPTION:
URL:https://kleingarten-morgensonne-muenster.de/event/spielenachmittag-offene-veranstaltung-4/
END:VEVENT
END:VCALENDAR