BEGIN:VCALENDAR
VERSION:2.0
PRODID:-//Kleingarten Morgensonne Münster - ECPv6.0.13.1//NONSGML v1.0//EN
CALSCALE:GREGORIAN
METHOD:PUBLISH
X-ORIGINAL-URL:https://kleingarten-morgensonne-muenster.de
X-WR-CALDESC:Veranstaltungen für Kleingarten Morgensonne Münster
REFRESH-INTERVAL;VALUE=DURATION:PT1H
X-Robots-Tag:noindex
X-PUBLISHED-TTL:PT1H
BEGIN:VTIMEZONE
TZID:Europe/Berlin
BEGIN:DAYLIGHT
TZOFFSETFROM:+0100
TZOFFSETTO:+0200
TZNAME:CEST
DTSTART:20230326T010000
END:DAYLIGHT
BEGIN:STANDARD
TZOFFSETFROM:+0200
TZOFFSETTO:+0100
TZNAME:CET
DTSTART:20231029T010000
END:STANDARD
END:VTIMEZONE
BEGIN:VEVENT
DTSTART;VALUE=DATE:20230414
DTEND;VALUE=DATE:20230415
DTSTAMP:20260424T020532
CREATED:20230129T191445Z
LAST-MODIFIED:20230327T165211Z
UID:818-1681430400-1681516799@kleingarten-morgensonne-muenster.de
SUMMARY:Vermietung
DESCRIPTION:Rahel Ristau – Geburtstag \nVertrag: in Klärung\nGetränke: sind bestellt – in Arbeit mit Stefan\nÜbergabe: macht Rahel selber – Abnahme am nächsten Tag – Tine\nPutzen; putzt selber\nBesonderheiten: nix
URL:https://kleingarten-morgensonne-muenster.de/event/anfrage-vermietung-4/
END:VEVENT
END:VCALENDAR