BEGIN:VCALENDAR
VERSION:2.0
PRODID:-//Kleingarten Morgensonne Münster - ECPv6.0.13.1//NONSGML v1.0//EN
CALSCALE:GREGORIAN
METHOD:PUBLISH
X-WR-CALNAME:Kleingarten Morgensonne Münster
X-ORIGINAL-URL:https://kleingarten-morgensonne-muenster.de
X-WR-CALDESC:Veranstaltungen für Kleingarten Morgensonne Münster
REFRESH-INTERVAL;VALUE=DURATION:PT1H
X-Robots-Tag:noindex
X-PUBLISHED-TTL:PT1H
BEGIN:VTIMEZONE
TZID:Europe/Berlin
BEGIN:DAYLIGHT
TZOFFSETFROM:+0100
TZOFFSETTO:+0200
TZNAME:CEST
DTSTART:20250330T010000
END:DAYLIGHT
BEGIN:STANDARD
TZOFFSETFROM:+0200
TZOFFSETTO:+0100
TZNAME:CET
DTSTART:20251026T010000
END:STANDARD
END:VTIMEZONE
BEGIN:VEVENT
DTSTART;VALUE=DATE:20250927
DTEND;VALUE=DATE:20250928
DTSTAMP:20260421T183548
CREATED:20250210T111126Z
LAST-MODIFIED:20250610T162307Z
UID:1154-1758931200-1759017599@kleingarten-morgensonne-muenster.de
SUMMARY:Vermietung Olive Buck / Grischa
DESCRIPTION:Vertrag unterschrieben \nÜbergabe TBD \nAbnahme TBD
URL:https://kleingarten-morgensonne-muenster.de/event/vermietung-olive-buck-grischa/
END:VEVENT
END:VCALENDAR