BEGIN:VCALENDAR
VERSION:2.0
PRODID:-//Kleingarten Morgensonne Münster - ECPv6.0.13.1//NONSGML v1.0//EN
CALSCALE:GREGORIAN
METHOD:PUBLISH
X-WR-CALNAME:Kleingarten Morgensonne Münster
X-ORIGINAL-URL:https://kleingarten-morgensonne-muenster.de
X-WR-CALDESC:Veranstaltungen für Kleingarten Morgensonne Münster
REFRESH-INTERVAL;VALUE=DURATION:PT1H
X-Robots-Tag:noindex
X-PUBLISHED-TTL:PT1H
BEGIN:VTIMEZONE
TZID:Europe/Berlin
BEGIN:DAYLIGHT
TZOFFSETFROM:+0100
TZOFFSETTO:+0200
TZNAME:CEST
DTSTART:20250330T010000
END:DAYLIGHT
BEGIN:STANDARD
TZOFFSETFROM:+0200
TZOFFSETTO:+0100
TZNAME:CET
DTSTART:20251026T010000
END:STANDARD
END:VTIMEZONE
BEGIN:VEVENT
DTSTART;TZID=Europe/Berlin:20250925T170000
DTEND;TZID=Europe/Berlin:20250925T230000
DTSTAMP:20260421T183550
CREATED:20250811T101749Z
LAST-MODIFIED:20250811T101749Z
UID:1230-1758819600-1758841200@kleingarten-morgensonne-muenster.de
SUMMARY:Niko Katzer - 25.09. "Eigentümerversammlung" reserviert
DESCRIPTION:
URL:https://kleingarten-morgensonne-muenster.de/event/niko-katzer-25-09-eigentuemerversammlung-reserviert/
END:VEVENT
END:VCALENDAR