BEGIN:VCALENDAR
VERSION:2.0
PRODID:-//Kleingarten Morgensonne Münster - ECPv6.0.13.1//NONSGML v1.0//EN
CALSCALE:GREGORIAN
METHOD:PUBLISH
X-WR-CALNAME:Kleingarten Morgensonne Münster
X-ORIGINAL-URL:https://kleingarten-morgensonne-muenster.de
X-WR-CALDESC:Veranstaltungen für Kleingarten Morgensonne Münster
REFRESH-INTERVAL;VALUE=DURATION:PT1H
X-Robots-Tag:noindex
X-PUBLISHED-TTL:PT1H
BEGIN:VTIMEZONE
TZID:Europe/Berlin
BEGIN:DAYLIGHT
TZOFFSETFROM:+0100
TZOFFSETTO:+0200
TZNAME:CEST
DTSTART:20250330T010000
END:DAYLIGHT
BEGIN:STANDARD
TZOFFSETFROM:+0200
TZOFFSETTO:+0100
TZNAME:CET
DTSTART:20251026T010000
END:STANDARD
END:VTIMEZONE
BEGIN:VEVENT
DTSTART;VALUE=DATE:20250816
DTEND;VALUE=DATE:20250817
DTSTAMP:20260421T202025
CREATED:20250807T150148Z
LAST-MODIFIED:20250807T150148Z
UID:1227-1755302400-1755388799@kleingarten-morgensonne-muenster.de
SUMMARY:Saskia Gah über Nils Ganten / Wieskötter Vermietung
DESCRIPTION:Vermietung 16.08. \nÜbergabe / Abnahme Nils
URL:https://kleingarten-morgensonne-muenster.de/event/saskia-gah-ueber-nils-ganten-wieskoetter-vermietung/
END:VEVENT
END:VCALENDAR