BEGIN:VCALENDAR
VERSION:2.0
PRODID:-//Kleingarten Morgensonne Münster - ECPv6.0.13.1//NONSGML v1.0//EN
CALSCALE:GREGORIAN
METHOD:PUBLISH
X-ORIGINAL-URL:https://kleingarten-morgensonne-muenster.de
X-WR-CALDESC:Veranstaltungen für Kleingarten Morgensonne Münster
REFRESH-INTERVAL;VALUE=DURATION:PT1H
X-Robots-Tag:noindex
X-PUBLISHED-TTL:PT1H
BEGIN:VTIMEZONE
TZID:Europe/Berlin
BEGIN:DAYLIGHT
TZOFFSETFROM:+0100
TZOFFSETTO:+0200
TZNAME:CEST
DTSTART:20240331T010000
END:DAYLIGHT
BEGIN:STANDARD
TZOFFSETFROM:+0200
TZOFFSETTO:+0100
TZNAME:CET
DTSTART:20241027T010000
END:STANDARD
END:VTIMEZONE
BEGIN:VEVENT
DTSTART;TZID=Europe/Berlin:20240910T080000
DTEND;TZID=Europe/Berlin:20240910T223000
DTSTAMP:20260422T205013
CREATED:20240807T175237Z
LAST-MODIFIED:20240807T175628Z
UID:1053-1725955200-1726007400@kleingarten-morgensonne-muenster.de
SUMMARY:Niko Katzer Versammlung ab 17 Uhr
DESCRIPTION:Öffnung Vereinshaus – keine Vermietung
URL:https://kleingarten-morgensonne-muenster.de/event/niko-katzer-versammlung-ab-17-uhr/
END:VEVENT
END:VCALENDAR