BEGIN:VCALENDAR
VERSION:2.0
PRODID:-//Kleingarten Morgensonne Münster - ECPv6.0.13.1//NONSGML v1.0//EN
CALSCALE:GREGORIAN
METHOD:PUBLISH
X-ORIGINAL-URL:https://kleingarten-morgensonne-muenster.de
X-WR-CALDESC:Veranstaltungen für Kleingarten Morgensonne Münster
REFRESH-INTERVAL;VALUE=DURATION:PT1H
X-Robots-Tag:noindex
X-PUBLISHED-TTL:PT1H
BEGIN:VTIMEZONE
TZID:Europe/Berlin
BEGIN:DAYLIGHT
TZOFFSETFROM:+0100
TZOFFSETTO:+0200
TZNAME:CEST
DTSTART:20230326T010000
END:DAYLIGHT
BEGIN:STANDARD
TZOFFSETFROM:+0200
TZOFFSETTO:+0100
TZNAME:CET
DTSTART:20231029T010000
END:STANDARD
END:VTIMEZONE
BEGIN:VEVENT
DTSTART;TZID=Europe/Berlin:20230308T170000
DTEND;TZID=Europe/Berlin:20230308T210000
DTSTAMP:20260424T055819
CREATED:20230302T164231Z
LAST-MODIFIED:20230302T164231Z
UID:844-1678294800-1678309200@kleingarten-morgensonne-muenster.de
SUMMARY:Knobeln
DESCRIPTION:
URL:https://kleingarten-morgensonne-muenster.de/event/knobeln-8/
END:VEVENT
END:VCALENDAR